BEGIN:VCALENDAR
VERSION:2.0
PRODID:-//Caleb Cooper Ministries - ECPv6.15.20//NONSGML v1.0//EN
CALSCALE:GREGORIAN
METHOD:PUBLISH
X-ORIGINAL-URL:https://calebcooperministries.com
X-WR-CALDESC:Events for Caleb Cooper Ministries
REFRESH-INTERVAL;VALUE=DURATION:PT1H
X-Robots-Tag:noindex
X-PUBLISHED-TTL:PT1H
BEGIN:VTIMEZONE
TZID:UTC
BEGIN:STANDARD
TZOFFSETFROM:+0000
TZOFFSETTO:+0000
TZNAME:UTC
DTSTART:20220101T000000
END:STANDARD
END:VTIMEZONE
BEGIN:VEVENT
DTSTART;TZID=UTC:20230408T190000
DTEND;TZID=UTC:20230414T230000
DTSTAMP:20260420T015146
CREATED:20230104T202520Z
LAST-MODIFIED:20230104T203804Z
UID:1189-1680980400-1681513200@calebcooperministries.com
SUMMARY:Trail of Joy Tour | Jackson\,MO
DESCRIPTION:The Trail of Joy Tour consists of a 7 day Tent Revival dedicated to the Unity of the Body of Christ.  \n It is our belief that if we are to truly see change\, we have to spend time with one another in His presence.  This is so we can first be unified with God and then that will make us one with each other.  \nWe also have 3 other Grassroots Workshops designed to bring reformation of the church and our native reservations.   \nThese workshops include:  RECLAIMING FAMILY\, RECLAIMING EDUCATION\, and DISCIPLE MAKING MOVEMENT TRAINING.  \nLocation: TBD \nHear Revivalist Caleb Cooper deliver a fiery and timely word on the Trail of Joy Tour! \nDr. Caleb Cooper is married to his lovely wife Erica and has two wonderful children\, Izabella\, and Caleb Titus Cooper. They have served in the ministry for almost two decades. A majority of those years have been spent Senior Pastoring. Caleb answered the call of God in 2003\, when he heard the Lord say\, “Son\, I have called you to preach the Gospel with accompanied signs\, wonders\, and miracles and prepare a generation for the return of Jesus Christ!” Caleb is a firebrand revivalist that carries a unique calling and spiritual gift set to not only pastor God’s people but mobilize the body of Christ in the spirit of unity to labor together as ONE.\nDr. Caleb Cooper received his Doctorate Degree in Biblical Studies from FountainGate School of Revival. \nHe currently serves as the Director of Affiliate Schools for FGSOR. He is the author of “Pioneering Prophetic Patterns of Purpose\,” “Jesus Focused: Awakening Endtime Prophetic Strategy\,” “The Convergence of Revival and the King’s Arrival\,” “The Call For Strong Godly Leadership\,” “Uncompromised Revival Fire\,” and more. \nHe has two podcasts\, “Uncompromised Revival Fire” and “Battle Ready Remnant.” He has also written many articles for Charisma Magazine and Destiny Image Publishers. Finally\, Dr. Cooper’s story of refusing to close down New Hope Revival Church during the pandemic even in the face of a “Cease and Desist Order” by New Mexico State Police will be shown in the upcoming movie by KrisAnne Hall called Noncompliant 2: The Sheriff. \nRegister Here\n				\n\n	\n\n				\n		\n												\n					\n						Revival Fire Tent Meetings T-Shirt					\n				\n			\n										Apparel\, Tent					\n								\n				\n					\n					View Cart\n				\n			\n		\n								\n										\n	$28.00\n			\n										\n					Select options	\n		This product has multiple variants. The options may be chosen on the product page	\n\n	\n\n\n	Details\n\n				\n									\n	\n\n\n\n				\n\n	\n\n				\n		\n												\n					\n						Nothing Beyond Redemption T-Shirt					\n				\n			\n										Apparel					\n								\n				\n					\n					View Cart\n				\n			\n		\n								\n										\n	$28.00\n			\n										\n					Select options	\n		This product has multiple variants. The options may be chosen on the product page	\n\n	\n\n\n	Details\n\n				\n									\n	\n\n\n\n				\n\n	\n\n				\n		\n												\n					\n						Holy Spirit: Purity\, Passion\, Power Tee					\n				\n			\n										Apparel					\n								\n				\n					\n					View Cart\n				\n			\n		\n								\n										\n	$28.00\n			\n										\n					Select options	\n		This product has multiple variants. The options may be chosen on the product page	\n\n	\n\n\n	Details\n\n				\n									\n	\n\n\n\n				\n\n	\n\n				\n		\n												\n					\n						Worship Quote Tee					\n				\n			\n										Apparel					\n								\n				\n					\n					View Cart\n				\n			\n		\n								\n										\n	$28.00\n			\n										\n					Select options	\n		This product has multiple variants. The options may be chosen on the product page	\n\n	\n\n\n	Details\n\n				\n									\n	\n\n\n\n				\n\n	\n\n				\n		\n												\n					\n						Revival Quote T-Shirt					\n				\n			\n										Apparel					\n								\n				\n					\n					View Cart\n				\n			\n		\n								\n										\n	$28.00\n			\n										\n					Select options	\n		This product has multiple variants. The options may be chosen on the product page	\n\n	\n\n\n	Details
URL:https://calebcooperministries.com/event/trail-of-joy-tour-jacksonmo/
LOCATION:AZ
ATTACH;FMTTYPE=image/png:https://calebcooperministries.com/wp-content/uploads/2023/01/Screen-Shot-2023-01-04-at-2.12.59-PM.png
ORGANIZER;CN="Voices of Mercy Outreach%2C Inc.":MAILTO:devin@onebloodbr.com
END:VEVENT
END:VCALENDAR